BEGIN:VCALENDAR
VERSION:2.0
PRODID:icalendar-ruby
CALSCALE:GREGORIAN
BEGIN:VEVENT
DTSTAMP:20260422T085002Z
UID:2445bfe0-c9db-4502-95f4-7b00e072c210
DTSTART;VALUE=DATE:20260312
DESCRIPTION:Property ID# 604197\, Locatoin: 8 Kent Terrace\, Wellington\, T
 ime: 1:00PM
SUMMARY:Auction for 
END:VEVENT
END:VCALENDAR
