BEGIN:VCALENDAR
VERSION:2.0
PRODID:icalendar-ruby
CALSCALE:GREGORIAN
BEGIN:VEVENT
DTSTAMP:20260420T065029Z
UID:0dcf027e-ff8d-4dcf-b388-6569446a0316
DTSTART;VALUE=DATE:20251117
DESCRIPTION:Property ID# 597917\, Time: 4:00PM
SUMMARY:Auction for 
END:VEVENT
END:VCALENDAR
