BEGIN:VCALENDAR
VERSION:2.0
PRODID:icalendar-ruby
CALSCALE:GREGORIAN
BEGIN:VEVENT
DTSTAMP:20260421T092208Z
UID:8b24f386-2334-425f-bfa4-ccf1f422e2ea
DTSTART;VALUE=DATE:20241119
DESCRIPTION:Property ID# 582831\, Time: 2:00PM
SUMMARY:Auction for 
END:VEVENT
END:VCALENDAR
