BEGIN:VCALENDAR
VERSION:2.0
PRODID:icalendar-ruby
CALSCALE:GREGORIAN
BEGIN:VEVENT
DTSTAMP:20260422T064705Z
UID:fe5a3f75-314f-4534-a977-30cdbd865c0c
DTSTART;VALUE=DATE:20210923
DESCRIPTION:Property ID# 515856\, Locatoin: 149 Johnsonville Road\, Johnson
 ville\, Time: 1:00PM
SUMMARY:Auction for 
END:VEVENT
END:VCALENDAR
