BEGIN:VCALENDAR
VERSION:2.0
PRODID:icalendar-ruby
CALSCALE:GREGORIAN
BEGIN:VEVENT
DTSTAMP:20260421T115722Z
UID:b00dcc4f-b3a3-4432-ae84-e705da19b4a7
DTSTART;VALUE=DATE:20191218
DESCRIPTION:Property ID# 468775\, Locatoin: 21 Ganges Road\, Khandallah\, T
 ime: 12:00PM
SUMMARY:Auction for 
END:VEVENT
END:VCALENDAR
